BEGIN:VCALENDAR
VERSION:2.0
PRODID:-//LGcomms - ECPv6.15.20//NONSGML v1.0//EN
CALSCALE:GREGORIAN
METHOD:PUBLISH
X-WR-CALNAME:LGcomms
X-ORIGINAL-URL:https://lgcomms.org.uk
X-WR-CALDESC:Events for LGcomms
REFRESH-INTERVAL;VALUE=DURATION:PT1H
X-Robots-Tag:noindex
X-PUBLISHED-TTL:PT1H
BEGIN:VTIMEZONE
TZID:UTC
BEGIN:STANDARD
TZOFFSETFROM:+0000
TZOFFSETTO:+0000
TZNAME:UTC
DTSTART:20230101T000000
END:STANDARD
END:VTIMEZONE
BEGIN:VEVENT
DTSTART;TZID=UTC:20241127T123000
DTEND;TZID=UTC:20241127T133000
DTSTAMP:20260421T230607
CREATED:20241030T160936Z
LAST-MODIFIED:20241111T091916Z
UID:10000011-1732710600-1732714200@lgcomms.org.uk
SUMMARY:Embedding digital accessibility and inclusion practice
DESCRIPTION:Free for LGcomms members – please log in to book \nWebinar date – 27 November 24\, time 12.30-1.30pm \nWith: \nLouise Gibson – Social Media\, Design\, Advertising and Sponsorship Team Manager\, Sheffield City Council \nLeanne Hughes – CAN Digital Lead \nAgenda: \nHigh level overview of research findings – Accessibility in Local Authority communications \nLeadership sponsorship and Operational responsibility \nIndividual as a catalyst for change \nWhat is accessibility? \nInteractive element in chat – what do people think accessibility and inclusivity are and why they are important? \nSheffield’s successful approach to buy-in and implementation \nContext setting – legislative requirements\, protected characteristics/impairments/disability stats (Census and charity data) \nValues/ethics \nHow we approached the basics; phased approach to introducing and embedding Pascal/Camel case\, alt text\, etc – tips and tricks to engage the team \nQ&A throughout and at the end \n  \nFormat of the session \nThe webinar will take place on Zoom. Some basic slides and presentation of findings and ideas will be shared on screen. Slides won’t contain comprehensive information but will serve as a reference point for the discussion. \nWe will aim to make the slides and session as accessible and inclusive as possible\, with consideration that no one format is inclusive and accessible for all\, as individual’s needs are all different. \nOpen to questions throughout as practicable. Time for dedicated questions and answers at the end. \nLouise and Leanne are award-winning\, CIPR chartered professionals with almost 50 years combined experience of communications\, PR\, marketing and sales in public and private sector. Both are champions of improving accessibility in communications and have led the way in doing so at local and national levels. \nBOOK HERE
URL:https://lgcomms.org.uk/event-listing/embedding-digital-accessibility-and-inclusion-practice/
ATTACH;FMTTYPE=image/jpeg:https://lgcomms.org.uk/wp-content/uploads/2024/10/Digital-accessibility-1.jpg
END:VEVENT
END:VCALENDAR