BEGIN:VCALENDAR
VERSION:2.0
PRODID:-//LGcomms - ECPv6.15.20//NONSGML v1.0//EN
CALSCALE:GREGORIAN
METHOD:PUBLISH
X-WR-CALNAME:LGcomms
X-ORIGINAL-URL:https://lgcomms.org.uk
X-WR-CALDESC:Events for LGcomms
REFRESH-INTERVAL;VALUE=DURATION:PT1H
X-Robots-Tag:noindex
X-PUBLISHED-TTL:PT1H
BEGIN:VTIMEZONE
TZID:UTC
BEGIN:STANDARD
TZOFFSETFROM:+0000
TZOFFSETTO:+0000
TZNAME:UTC
DTSTART:20240101T000000
END:STANDARD
END:VTIMEZONE
BEGIN:VEVENT
DTSTART;TZID=UTC:20250109T123000
DTEND;TZID=UTC:20250109T131500
DTSTAMP:20260424T134555
CREATED:20241216T162604Z
LAST-MODIFIED:20250109T121217Z
UID:10000015-1736425800-1736428500@lgcomms.org.uk
SUMMARY:Zero to hero: A crash course in public service communications
DESCRIPTION:FREE FOR MEMBERS \nCommunicating in a complex political environment\, Matt Nicholls\, Head of Communications Improvement\, LGA\, Alix Macfarlane\, Programme Director Communications and Engagement\, Slough Borough Council and Vice Chair LGcomms \nBOOK HERE
URL:https://lgcomms.org.uk/event-listing/zero-to-hero-mastering-political-awareness/
ATTACH;FMTTYPE=image/jpeg:https://lgcomms.org.uk/wp-content/uploads/2024/12/Zero-to-hero-2-1.jpg
END:VEVENT
END:VCALENDAR