BEGIN:VCALENDAR
VERSION:2.0
PRODID:-//LGcomms - ECPv6.15.20//NONSGML v1.0//EN
CALSCALE:GREGORIAN
METHOD:PUBLISH
X-WR-CALNAME:LGcomms
X-ORIGINAL-URL:https://lgcomms.org.uk
X-WR-CALDESC:Events for LGcomms
REFRESH-INTERVAL;VALUE=DURATION:PT1H
X-Robots-Tag:noindex
X-PUBLISHED-TTL:PT1H
BEGIN:VTIMEZONE
TZID:UTC
BEGIN:STANDARD
TZOFFSETFROM:+0000
TZOFFSETTO:+0000
TZNAME:UTC
DTSTART:20240101T000000
END:STANDARD
END:VTIMEZONE
BEGIN:VEVENT
DTSTART;TZID=UTC:20250206T123000
DTEND;TZID=UTC:20250206T131500
DTSTAMP:20260425T135217
CREATED:20241216T163517Z
LAST-MODIFIED:20250110T084457Z
UID:10000019-1738845000-1738847700@lgcomms.org.uk
SUMMARY:Zero to hero: Simple ways to embed a creative mindset and the case for being brave with comms
DESCRIPTION:FREE FOR MEMBERS \nSimple ways to embed a creative mindset and the case for being brave with comms\, Zander Mills\, Communication Manager\, South Yorkshire Fire & Rescue & James Morton\, Founder\, turn the page \n\nEveryday creativity – embedding a creative mindset in the busy day-to-day\nThe case for standing out – why we need to be bold to make an impact\nWinning over doubters – how we can negotiate and win permission for our ideas\n\nBOOK HERE
URL:https://lgcomms.org.uk/event-listing/zero-to-hero-simple-ways-to-embed-a-creative-mindset-and-the-case-for-being-brave-with-comms/
ATTACH;FMTTYPE=image/jpeg:https://lgcomms.org.uk/wp-content/uploads/2024/12/Zero-to-hero-2-1.jpg
END:VEVENT
BEGIN:VEVENT
DTSTART;TZID=UTC:20250206T133000
DTEND;TZID=UTC:20250206T170000
DTSTAMP:20260425T135217
CREATED:20250122T162849Z
LAST-MODIFIED:20251202T111204Z
UID:10000028-1738848600-1738861200@lgcomms.org.uk
SUMMARY:North East regional network meeting
DESCRIPTION:This session is fully booked. If you would like to enquire about joining the next session please email hello@lgcomms.org.uk.
URL:https://lgcomms.org.uk/event-listing/north-east-regional-network-meeting/
CATEGORIES:Regional event
ATTACH;FMTTYPE=image/jpeg:https://lgcomms.org.uk/wp-content/uploads/2025/01/East-mids-2.jpg
END:VEVENT
END:VCALENDAR