BEGIN:VCALENDAR
VERSION:2.0
PRODID:-//LGcomms - ECPv6.15.20//NONSGML v1.0//EN
CALSCALE:GREGORIAN
METHOD:PUBLISH
X-WR-CALNAME:LGcomms
X-ORIGINAL-URL:https://lgcomms.org.uk
X-WR-CALDESC:Events for LGcomms
REFRESH-INTERVAL;VALUE=DURATION:PT1H
X-Robots-Tag:noindex
X-PUBLISHED-TTL:PT1H
BEGIN:VTIMEZONE
TZID:UTC
BEGIN:STANDARD
TZOFFSETFROM:+0000
TZOFFSETTO:+0000
TZNAME:UTC
DTSTART:20240101T000000
END:STANDARD
END:VTIMEZONE
BEGIN:VEVENT
DTSTART;TZID=UTC:20250328T113000
DTEND;TZID=UTC:20250328T123000
DTSTAMP:20260425T105930
CREATED:20250206T162108Z
LAST-MODIFIED:20250206T162108Z
UID:10000029-1743161400-1743165000@lgcomms.org.uk
SUMMARY:Winning the Argument for Change
DESCRIPTION:FREE FOR MEMBERS (PLEASE LOG IN TO BOOK) \nSummary:  \nThe government is making changes to planning and has brought back housing targets\, which has moved regeneration and development back up the agenda. If not handled correctly\, there will be local opposition\, which can damage the council’s reputation and derail schemes. As a result\, this session aims to give participants an insight into the challenges\, along with strategies and tactics to build a conciseness for change. \nPanellists: \nSiddo Dwyer – https://www.linkedin.com/in/siddo-dwyer-655374100/ \nClaire Callow –  https://www.linkedin.com/in/claire-callow-70a72611a/ \nHarriet Shone – https://www.linkedin.com/in/harriet-shone-09b8ba44/  \nChaired by: \nPaul Hutchinson Simpson- https://www.linkedin.com/in/paulhutchinsonsimpson/ \nBOOK HERE
URL:https://lgcomms.org.uk/event-listing/winning-the-argument-for-change/
ATTACH;FMTTYPE=image/jpeg:https://lgcomms.org.uk/wp-content/uploads/2025/02/winning-the-arguement.jpg
END:VEVENT
END:VCALENDAR