BEGIN:VCALENDAR
VERSION:2.0
PRODID:-//LGcomms - ECPv6.15.20//NONSGML v1.0//EN
CALSCALE:GREGORIAN
METHOD:PUBLISH
X-ORIGINAL-URL:https://lgcomms.org.uk
X-WR-CALDESC:Events for LGcomms
REFRESH-INTERVAL;VALUE=DURATION:PT1H
X-Robots-Tag:noindex
X-PUBLISHED-TTL:PT1H
BEGIN:VTIMEZONE
TZID:UTC
BEGIN:STANDARD
TZOFFSETFROM:+0000
TZOFFSETTO:+0000
TZNAME:UTC
DTSTART:20240101T000000
END:STANDARD
END:VTIMEZONE
BEGIN:VEVENT
DTSTART;TZID=UTC:20250917T100000
DTEND;TZID=UTC:20250917T140000
DTSTAMP:20260423T160451
CREATED:20250729T082444Z
LAST-MODIFIED:20251210T160541Z
UID:10000033-1758103200-1758117600@lgcomms.org.uk
SUMMARY:Talking about Homes: a workshop with LGcomms and the Joseph Rowntree Foundation (JRF)
DESCRIPTION:Free for LGcomms members – please log in to book \nWhen and where \n· LGA\, Smith Square\, London \n· Wednesday 17th September \n· 10am to 2pm (including networking lunch) \n  \nHow we talk about homes in our communities matters. And as we move into an era of more investment in new social homes\, it’s more important than ever that we get our communications spot-on. \nIn this session you’ll hear from Natalie Tate\, project lead for Talking about Homes at the JRF\, on how we can frame our communications so that we boost community support for building homes. \n  \nWe’ll discuss how we can: \n· Establish common ground and give people a reason to care \n· Show why new homes are needed by winning hearts and minds \n· Share a vision of the benefits of genuinely affordable homes and strong communities \n  \nNatalie’s workshop will be followed by a discussion on the current housing challenges and opportunities for us as communicators\, facilitated by Bobbie Hough of Hough Bellis Communications. \nThe session will end with a networking lunch. \n  \n 
URL:https://lgcomms.org.uk/event-listing/talking-about-homes-a-workshop-with-lgcomms-and-the-joseph-rowntree-foundation-jrf/
LOCATION:LGA\, Smith Square\, London\, 18 Smith Square\, London\, SW1P 3HZ\, United Kingdom
ATTACH;FMTTYPE=image/jpeg:https://lgcomms.org.uk/wp-content/uploads/2025/07/Talking-about-homes-3.jpg
END:VEVENT
END:VCALENDAR