BEGIN:VCALENDAR
VERSION:2.0
PRODID:-//LGcomms - ECPv6.15.20//NONSGML v1.0//EN
CALSCALE:GREGORIAN
METHOD:PUBLISH
X-ORIGINAL-URL:https://lgcomms.org.uk
X-WR-CALDESC:Events for LGcomms
REFRESH-INTERVAL;VALUE=DURATION:PT1H
X-Robots-Tag:noindex
X-PUBLISHED-TTL:PT1H
BEGIN:VTIMEZONE
TZID:UTC
BEGIN:STANDARD
TZOFFSETFROM:+0000
TZOFFSETTO:+0000
TZNAME:UTC
DTSTART:20240101T000000
END:STANDARD
END:VTIMEZONE
BEGIN:VEVENT
DTSTART;TZID=UTC:20250923T103000
DTEND;TZID=UTC:20250923T133000
DTSTAMP:20260423T161208
CREATED:20250807T151055Z
LAST-MODIFIED:20251210T160506Z
UID:10000034-1758623400-1758634200@lgcomms.org.uk
SUMMARY:LGcomms East Midlands regional network meeting
DESCRIPTION:Free to LGcomms members (please log in to book) \nDate: Tuesday 23 September 2025  \n\n\nTime: 10.30am – 1.30pm \n\n\nLocation: Committee Room C\, Nottinghamshire County Hall\, Loughborough Road\, West Bridgford\, Nottingham NG2 7QP. \n\n\n[Free Parking on-site – Turn left after entering the site and park in the lower car park] \n\n\nJoin us for the next East Midlands regional network meeting\, held in partnership with East Midlands Councils. \n\n\nBuilding on the success of our previous events\, the next meeting will be held on Tuesday 23 September 2025 at Nottinghamshire County Hall in West Bridgford. \n\n\nOur LGcomms regional networks\, developed by LGcomms along with the Local Government Association\, provide an important forum for members to share issues\, best practice and campaigns\, and hear briefings from key partners. They’re also an important opportunity to focus on communications challenges which are unique to regions and network with colleagues. \n\n\nEast Midlands Regional Network Meeting Agenda \nAgenda: \n1. Welcome and background Rachael Pengelly/ Craig Forsyth 10.30 am 10 mins. \n2. Aligning communication strategy and budget (and where to look for money) Carl Holloway\, Director of Policy and Communications\, Coventry City Council 10.40 am 30 mins \n3. Centralising budgets\, managing demand and creating value in a constantly changing environment Joanna Morrison\, Head of Communications and Digital\, Leicestershire County Council 11:10 am 30 mins \n4. Unlocking resources across the council Can Digital/ Craig Forsyth 11.40 am 30 mins \n5. Budget Roundtable: Questions\, Ideas\, best practices and lessons learned All 12.10 pm 20 mins \n6. Upcoming Challenges\, Opportunities and Shared\, Solutions All 12.30 pm 30 mins \nLunch and networking 1pm to 1.30pm \n\n\nThe running time of the session is 10.30am to 1.30pm and a sandwich lunch will be provided. \nIf you have any questions please contact hello@lgcomms.org.uk \n\n\n 
URL:https://lgcomms.org.uk/event-listing/lgcomms-east-midlands-regional-network-meeting-4/
LOCATION:Nottinghamshire County Hall\, Loughborough Road\, West Bridgford\, Nottingham\, NG2 7QP
CATEGORIES:Regional event
ATTACH;FMTTYPE=image/jpeg:https://lgcomms.org.uk/wp-content/uploads/2025/08/East-mids.jpg
END:VEVENT
END:VCALENDAR