BEGIN:VCALENDAR
VERSION:2.0
PRODID:-//LGcomms - ECPv6.15.20//NONSGML v1.0//EN
CALSCALE:GREGORIAN
METHOD:PUBLISH
X-WR-CALNAME:LGcomms
X-ORIGINAL-URL:https://lgcomms.org.uk
X-WR-CALDESC:Events for LGcomms
REFRESH-INTERVAL;VALUE=DURATION:PT1H
X-Robots-Tag:noindex
X-PUBLISHED-TTL:PT1H
BEGIN:VTIMEZONE
TZID:UTC
BEGIN:STANDARD
TZOFFSETFROM:+0000
TZOFFSETTO:+0000
TZNAME:UTC
DTSTART:20240101T000000
END:STANDARD
END:VTIMEZONE
BEGIN:VEVENT
DTSTART;TZID=UTC:20250924T120000
DTEND;TZID=UTC:20250924T130000
DTSTAMP:20260425T125128
CREATED:20250901T101331Z
LAST-MODIFIED:20251210T160333Z
UID:10000037-1758715200-1758718800@lgcomms.org.uk
SUMMARY:Future Leader drop in session
DESCRIPTION:Are you a passionate communicator in local government ready to take the next step in your career? \nThe Future Leaders programme offers tailored development\, peer support\, and mentoring from senior leaders. \nWant to learn more before applying? \nMeet alumni\, ask questions\, and find out what makes this programme so impactful. \n 
URL:https://lgcomms.org.uk/event-listing/future-leader-drop-in-session/
END:VEVENT
END:VCALENDAR