BEGIN:VCALENDAR
VERSION:2.0
PRODID:-//LGcomms - ECPv6.15.20//NONSGML v1.0//EN
CALSCALE:GREGORIAN
METHOD:PUBLISH
X-WR-CALNAME:LGcomms
X-ORIGINAL-URL:https://lgcomms.org.uk
X-WR-CALDESC:Events for LGcomms
REFRESH-INTERVAL;VALUE=DURATION:PT1H
X-Robots-Tag:noindex
X-PUBLISHED-TTL:PT1H
BEGIN:VTIMEZONE
TZID:UTC
BEGIN:STANDARD
TZOFFSETFROM:+0000
TZOFFSETTO:+0000
TZNAME:UTC
DTSTART:20240101T000000
END:STANDARD
END:VTIMEZONE
BEGIN:VEVENT
DTSTART;TZID=UTC:20251119T120000
DTEND;TZID=UTC:20251119T170000
DTSTAMP:20260423T122253
CREATED:20251016T103328Z
LAST-MODIFIED:20251210T160228Z
UID:10000040-1763553600-1763571600@lgcomms.org.uk
SUMMARY:LGcomms Yorkshire & the Humber regional network meeting
DESCRIPTION:We’re pleased to be able to invite you to the first of our LGcomms Yorkshire and Humber regional network meetings\, held in partnership with Yorkshire and Humber Councils. \nDate: 19th November 2025 \nVenue: Merrion House\, The Merrion Centre\, Leeds\, West Yorkshire\, LS2 8NG \nOur regional networks bring together communications professionals from across local government and the wider public sector to share insight\, ideas and experience. They offer a chance to discuss current priorities and challenges\, hear from national and regional partners\, and ex \nAgenda\n\n12 – 1pm               Welcome and networking lunch\n\n1 – 1.45pm             Community cohesion and flags update and roundtable discussion\, Eddie Coates-Madden\, Head of            communications and public affairs\,  London Borough of Hounslow\, Andy Allsopp\, Head of profession  communications and marketing\, Essex County Council\, Holly Skelton\, Business partner\, West Northants Council\n\n1.45 – 2.10pm          Community engagement\, Dan Hare\, Chief commercial officer e-shot\n\n2.10pm – 2.20pm      Break\n\n2.20pm – 3.05pm      Political change intro and roundtable discussion\, Eddie Coates-Madden\, Head of communications and public    affairs\,  London Borough of Hounslow\, Jacqui Gay\, Head of communications\, Hull City Council\, Holly Skelton\, Business partner\, West Northants Council\n\n3.05 – 3.15 pm        Break\n\n3.15 – 4pm           Awaab’s Law\, changes to legislation for housing and social landlords\, Jeni Harvey\, Director of communications    and marketing\, Rochdale Borough Housing\n\n4 – 4.15pm           Ideas for future sessions\n\n4.15pm – 4.30pm     Close and thanks\, Danni Clayton\, Head of communications and marketing\, Leeds City Council\n\n4.30pm onwards –       Networking drinks for anyone who would like to stay\nplore how we can collaborate to strengthen communications across the region. \n\nThe running time of the session is 12.00 pm to 5.00 pm\, a sandwich lunch and refreshments will be provided. \nThe session is free for LGcomms members. If you or your team members would like to attend\, please contact hello@lgcomms.org.uk please note spaces are limited due to room capacity. \n 
URL:https://lgcomms.org.uk/event-listing/lgcomms-yorkshire-the-humber-regional-network-meeting/
LOCATION:Merrion House\, The Merrion Centre\, Leeds\, West yorkshire\, LS2 8NG
CATEGORIES:Regional event
ATTACH;FMTTYPE=image/jpeg:https://lgcomms.org.uk/wp-content/uploads/2025/10/North-west.jpg
END:VEVENT
END:VCALENDAR