BEGIN:VCALENDAR
VERSION:2.0
PRODID:-//LGcomms - ECPv6.15.20//NONSGML v1.0//EN
CALSCALE:GREGORIAN
METHOD:PUBLISH
X-ORIGINAL-URL:https://lgcomms.org.uk
X-WR-CALDESC:Events for LGcomms
REFRESH-INTERVAL;VALUE=DURATION:PT1H
X-Robots-Tag:noindex
X-PUBLISHED-TTL:PT1H
BEGIN:VTIMEZONE
TZID:UTC
BEGIN:STANDARD
TZOFFSETFROM:+0000
TZOFFSETTO:+0000
TZNAME:UTC
DTSTART:20250101T000000
END:STANDARD
END:VTIMEZONE
BEGIN:VEVENT
DTSTART;TZID=UTC:20260211T130000
DTEND;TZID=UTC:20260211T140000
DTSTAMP:20260423T091807
CREATED:20260113T145238Z
LAST-MODIFIED:20260217T094617Z
UID:10000056-1770814800-1770818400@lgcomms.org.uk
SUMMARY:Whose job is it anyway? Who should own engagement and consultation? Should it sit on its own\, or sit within a Council’s communications team?
DESCRIPTION:Free for LGcomms members (please log in) \n\nWhose job is it anyway? Who should own engagement and consultation? Should it sit on its own\, or sit within a Council’s communications team? \n\n\nThis LGcomms webinar brings together a panel to discuss the role and purpose of engagement and consultation\, with a Q&A session at the end. \n\n\n\nPaul Gadsby\, Head of Aftercare\, Sales and Strategic Engagement at Haringey Council\, and a South London councillor\n\nJeannette Brooks\,  Community Engagement Team\, Corporate Service\, Royal Borough Of Greenwich \n\n\nThe session will be chaired by Paul Hutchinson Simpson (Westminster City Council). \n\n\n Wednesday\, 11 February\, from 1 to 2 pm. \nView slides and recording (members only)
URL:https://lgcomms.org.uk/event-listing/whose-job-is-it-anyway-who-should-own-engagement-and-consultation-should-it-sit-on-its-own-or-sit-within-a-councils-communications-team/
ATTACH;FMTTYPE=image/jpeg:https://lgcomms.org.uk/wp-content/uploads/2026/01/whos-job-is-it-1.jpg
END:VEVENT
BEGIN:VEVENT
DTSTART;TZID=UTC:20260211T150000
DTEND;TZID=UTC:20260211T163000
DTSTAMP:20260423T091807
CREATED:20260109T115842Z
LAST-MODIFIED:20260209T100727Z
UID:10000055-1770822000-1770827400@lgcomms.org.uk
SUMMARY:LGcomms West Midlands Regional network webinar
DESCRIPTION:DATE: FEB 11\, 2026 \nTIME: 3 P.M – 4.30 P.M \nAgenda: \n\n\n\n  \n1.       Welcome  \n  \n \n  \nAndrew Hadfield-Ames\, Vice Chair\, LGcomms.\n  \n3.00pm \n5 mins\n\n\n  \n2.       Community Cohesion – the Essex experience\n  \nAndy Allsopp\, Head of Profession Communications and Marketing at Essex County Council\n  \n3.05pm \n45 mins \n \n\n\n  \n3.       Discussion: Current issues\, learning\, questions for communications pros. in the West Mids.\n  \nCarl Holloway\, Director\, Policy and Communications\, Coventry City Council\n  \n3.50pm \n30 mins \n \n\n\n  \n4.       Summary and next steps\n  \nAndrew Hadfield-Ames\n  \n4.20pm \n10 mins\n\n\nCLOSE\n \n \n\n\n\n  \nOur new regional network for the West Midlands launches in February with a timely webinar looking at the communications implications of the continuing challenges to community cohesion. \nAndy Allsopp\, Head of Profession Communications and Marketing at Essex County Council\, will take us through a powerful case study of his council’s and partners’ experiences of a series of protests and counter-protests linked in part to the housing of asylum seekers. \nThis session will be the first of a series of events offering a valuable opportunity to connect with West Midlands’ colleagues\, share learning\, discuss emerging challenges and explore how we can strengthen public engagement and communications practice. \n  \nThe webinar will run between 3 p.m. and 4.30 p.m. on Wednesday\, 11 February 2026 and is FREE to LGcomms members. \nTo book your place – or places for your team – click here or email hello@lgcomms.org.uk \nThe webinar will also give us an opportunity to look ahead at the key issues for 2026\, so if you wish to suggest a topic please email our associate Paul Masterman at paul.masterman@blueyonder.co.uk
URL:https://lgcomms.org.uk/event-listing/lgcomms-west-midlands-regional-network-webinar/
CATEGORIES:Regional event
ATTACH;FMTTYPE=image/jpeg:https://lgcomms.org.uk/wp-content/uploads/2026/01/LGCOMMS-BLOG-2.jpg
END:VEVENT
END:VCALENDAR