BEGIN:VCALENDAR
VERSION:2.0
PRODID:-//LGcomms - ECPv6.15.20//NONSGML v1.0//EN
CALSCALE:GREGORIAN
METHOD:PUBLISH
X-ORIGINAL-URL:https://lgcomms.org.uk
X-WR-CALDESC:Events for LGcomms
REFRESH-INTERVAL;VALUE=DURATION:PT1H
X-Robots-Tag:noindex
X-PUBLISHED-TTL:PT1H
BEGIN:VTIMEZONE
TZID:UTC
BEGIN:STANDARD
TZOFFSETFROM:+0000
TZOFFSETTO:+0000
TZNAME:UTC
DTSTART:20250101T000000
END:STANDARD
END:VTIMEZONE
BEGIN:VEVENT
DTSTART;TZID=UTC:20260219T123000
DTEND;TZID=UTC:20260219T133000
DTSTAMP:20260423T085254
CREATED:20251203T122226Z
LAST-MODIFIED:20260219T152920Z
UID:10000051-1771504200-1771507800@lgcomms.org.uk
SUMMARY:Zero to Hero series - Social media: Tackling negative social media engagement across multiple inboxes\, protecting your org's online presence and building your own/your team's resilience and wellbeing.
DESCRIPTION:Pippa Newton\, Digital Communications and Campaigns Officer at Wandsworth Council\n\n\nLaura Hogan-Jones\, Customer Success Manager at Orlo\n\n\n\n\nView slides (members only)
URL:https://lgcomms.org.uk/event-listing/social-media-tackling-negative-social-media-engagement-and-supporting-your-own-your-teams-resilience-and-wellbeing/
ATTACH;FMTTYPE=image/jpeg:https://lgcomms.org.uk/wp-content/uploads/2025/12/Zero-to-hero-1.jpg
END:VEVENT
END:VCALENDAR