BEGIN:VCALENDAR
VERSION:2.0
PRODID:-//LGcomms - ECPv6.15.20//NONSGML v1.0//EN
CALSCALE:GREGORIAN
METHOD:PUBLISH
X-ORIGINAL-URL:https://lgcomms.org.uk
X-WR-CALDESC:Events for LGcomms
REFRESH-INTERVAL;VALUE=DURATION:PT1H
X-Robots-Tag:noindex
X-PUBLISHED-TTL:PT1H
BEGIN:VTIMEZONE
TZID:UTC
BEGIN:STANDARD
TZOFFSETFROM:+0000
TZOFFSETTO:+0000
TZNAME:UTC
DTSTART:20250101T000000
END:STANDARD
END:VTIMEZONE
BEGIN:VEVENT
DTSTART;TZID=UTC:20260224T130000
DTEND;TZID=UTC:20260224T160000
DTSTAMP:20260421T130524
CREATED:20260107T100236Z
LAST-MODIFIED:20260210T135645Z
UID:10000054-1771938000-1771948800@lgcomms.org.uk
SUMMARY:LGcomms Yorkshire & the Humber regional network meeting
DESCRIPTION:We’re pleased to be able to invite you to the first of second LGcomms Yorkshire and Humber regional network meetings. \nDate: 24th February 2026 \nVenue: Committee Room 3\, Sheffield Town Hall\, Pinstone St\, Sheffield City Centre\, Sheffield S1 2HH \nOur regional networks bring together communications professionals from across local government and the wider public sector to share insight\, ideas and experience. They offer a chance to discuss current priorities and challenges and hear from national and regional partners. \nThe running time of the session is 12.00 pm to 5.00 pm\, and refreshments will be provided. \nAgenda so far: \n‘Feeding the trolls’ countering mis- and dis-information on social – Lou Gibson and Eddie Coates-Madden\nDealing with abuse on social media – Elina Luty and Lou Gibson\nAlternatives to X in community engagement\, WhatsApp and Facebook community groups – Lou Gibson\nTeam structures – all\nThe session is free for LGcomms members. If you or your team members would like to attend\, please book here or contact hello@lgcomms.org.uk please note spaces are limited due to room capacity.
URL:https://lgcomms.org.uk/event-listing/lgcomms-yorkshire-the-humber-regional-network-meeting-2/
LOCATION:Sheffield Town Hall\, Pinstone St\, Sheffield\, S1 2HH\, United Kingdom
CATEGORIES:Regional event
ATTACH;FMTTYPE=image/jpeg:https://lgcomms.org.uk/wp-content/uploads/2026/01/LGCOMMS-BLOG.jpg
END:VEVENT
END:VCALENDAR