BEGIN:VCALENDAR
VERSION:2.0
PRODID:-//LGcomms - ECPv6.15.20//NONSGML v1.0//EN
CALSCALE:GREGORIAN
METHOD:PUBLISH
X-WR-CALNAME:LGcomms
X-ORIGINAL-URL:https://lgcomms.org.uk
X-WR-CALDESC:Events for LGcomms
REFRESH-INTERVAL;VALUE=DURATION:PT1H
X-Robots-Tag:noindex
X-PUBLISHED-TTL:PT1H
BEGIN:VTIMEZONE
TZID:UTC
BEGIN:STANDARD
TZOFFSETFROM:+0000
TZOFFSETTO:+0000
TZNAME:UTC
DTSTART:20250101T000000
END:STANDARD
END:VTIMEZONE
BEGIN:VEVENT
DTSTART;TZID=UTC:20260331T103000
DTEND;TZID=UTC:20260331T133000
DTSTAMP:20260421T111820
CREATED:20260303T130931Z
LAST-MODIFIED:20260305T093430Z
UID:10000058-1774953000-1774963800@lgcomms.org.uk
SUMMARY:LGcomms East Midlands regional network meeting
DESCRIPTION:East Midlands Regional Network Meeting  \nTuesday 31 March 2026 \n10.30am – 1.30pm \nLeicestershire County Council \nBook now by emailing hello@lgcomms.org.uk \nJoin us for the next LGComms East Midlands regional network meeting! \nBuilding on the feedback from previous sessions\, we will be joined by Alan Oram from Alive with Ideas to talk about the practical use of AI in Comms Campaigns. \nWe’d also love to hear real examples from across the region too\, so please do bring along your own case studies of how you’re using AI within your team. \nIf there are any other items or topics you would like to see on the agenda for this session\, please contact Rachael Pengelly – rachael.pengelly@emcouncils.gov.uk\, or Craig Forsyth – Craig.Forsyth@westnorthants.gov.uk. \nFuture Comms Team \nThere will also be a Future Communications session held by LGcommms at the venue in the afternoon. If you are interested in joining\, please visit: Future Comms Team Pilot Programme Expression of Interest Survey and select East Midlands.
URL:https://lgcomms.org.uk/event-listing/lgcomms-east-midlands-regional-network-meeting-6/
LOCATION:Leicestershire County Council\, County Hall\, Leicester Rd\, Glenfield\, Leicester\, LE3 8RA
CATEGORIES:Regional event
ATTACH;FMTTYPE=image/jpeg:https://lgcomms.org.uk/wp-content/uploads/2026/03/LGCOMMS-BLOG-5.jpg
END:VEVENT
END:VCALENDAR