BEGIN:VCALENDAR
VERSION:2.0
PRODID:-//LGcomms - ECPv6.15.20//NONSGML v1.0//EN
CALSCALE:GREGORIAN
METHOD:PUBLISH
X-ORIGINAL-URL:https://lgcomms.org.uk
X-WR-CALDESC:Events for LGcomms
REFRESH-INTERVAL;VALUE=DURATION:PT1H
X-Robots-Tag:noindex
X-PUBLISHED-TTL:PT1H
BEGIN:VTIMEZONE
TZID:UTC
BEGIN:STANDARD
TZOFFSETFROM:+0000
TZOFFSETTO:+0000
TZNAME:UTC
DTSTART:20240101T000000
END:STANDARD
END:VTIMEZONE
BEGIN:VEVENT
DTSTART;TZID=UTC:20250109T123000
DTEND;TZID=UTC:20250109T131500
DTSTAMP:20260424T120228
CREATED:20241216T162604Z
LAST-MODIFIED:20250109T121217Z
UID:10000015-1736425800-1736428500@lgcomms.org.uk
SUMMARY:Zero to hero: A crash course in public service communications
DESCRIPTION:FREE FOR MEMBERS \nCommunicating in a complex political environment\, Matt Nicholls\, Head of Communications Improvement\, LGA\, Alix Macfarlane\, Programme Director Communications and Engagement\, Slough Borough Council and Vice Chair LGcomms \nBOOK HERE
URL:https://lgcomms.org.uk/event-listing/zero-to-hero-mastering-political-awareness/
ATTACH;FMTTYPE=image/jpeg:https://lgcomms.org.uk/wp-content/uploads/2024/12/Zero-to-hero-2-1.jpg
END:VEVENT
BEGIN:VEVENT
DTSTART;TZID=UTC:20250116T123000
DTEND;TZID=UTC:20250116T131500
DTSTAMP:20260424T120228
CREATED:20241216T162843Z
LAST-MODIFIED:20250106T135943Z
UID:10000016-1737030600-1737033300@lgcomms.org.uk
SUMMARY:Zero to hero: Planning effective communications using the OASIS model
DESCRIPTION:FREE FOR MEMBERS \nPlanning effective communications using the OASIS model\, Simon Jones\, Director of Communications\, Westco \nBOOK HERE
URL:https://lgcomms.org.uk/event-listing/zero-to-hero-planning-effective-communications-using-the-oasis-model/
ATTACH;FMTTYPE=image/jpeg:https://lgcomms.org.uk/wp-content/uploads/2024/12/Zero-to-hero-2-1.jpg
END:VEVENT
BEGIN:VEVENT
DTSTART;TZID=UTC:20250123T123000
DTEND;TZID=UTC:20250123T131500
DTSTAMP:20260424T120228
CREATED:20241216T163125Z
LAST-MODIFIED:20250121T113106Z
UID:10000017-1737635400-1737638100@lgcomms.org.uk
SUMMARY:Zero to hero: What does the Leader of the Council want from their comms team?
DESCRIPTION:FREE FOR MEMBERS \nJeni Harvey\, LGcomm Vice Chair & Director of Marketing and Communications\, Rochdale Boroughwide Housing\, Sagar Sharma\, Head of Communications\, Wandsworth Council & Cllr Butt\, Brent Council \nBOOK HERE
URL:https://lgcomms.org.uk/event-listing/zero-to-hero-what-does-the-leader-of-the-council-want-from-their-comms-team/
ATTACH;FMTTYPE=image/jpeg:https://lgcomms.org.uk/wp-content/uploads/2024/12/Zero-to-hero-2-1.jpg
END:VEVENT
BEGIN:VEVENT
DTSTART;TZID=UTC:20250127T123000
DTEND;TZID=UTC:20250127T133000
DTSTAMP:20260424T120228
CREATED:20250117T123731Z
LAST-MODIFIED:20250117T123731Z
UID:10000027-1737981000-1737984600@lgcomms.org.uk
SUMMARY:Public Sector Digital Communications Benchmark Survey
DESCRIPTION:FREE FOR MEMBERS (PLEASE LOG IN) \nDate: Monday 27 January\, 12.30 – 1.30pm \nSpeaker: Mandy Pearse\, CIPR \nMandy Pearse shares the findings and insight from her latest in-depth survey focusing on digital communications in the public sector. \nMandy has over 20 years’ experience working with local government both in-house and as a consultant to the sector via Seashell Communications and as an LGA associate. She is a former president of the CIPR\, Board member of the Global Alliance for PR & Comms and winner of a PR Globe award for contribution to PR. Mandy specialises in consultancy\, research\, and training. \nBOOK HERE
URL:https://lgcomms.org.uk/event-listing/public-sector-digital-communications-benchmark-survey/
ATTACH;FMTTYPE=image/jpeg:https://lgcomms.org.uk/wp-content/uploads/2025/01/Public-sector-digi-comms-2.jpg
END:VEVENT
BEGIN:VEVENT
DTSTART;TZID=UTC:20250130T123000
DTEND;TZID=UTC:20250130T131500
DTSTAMP:20260424T120228
CREATED:20241216T163251Z
LAST-MODIFIED:20250106T140030Z
UID:10000018-1738240200-1738242900@lgcomms.org.uk
SUMMARY:Zero to hero: Writing and pitching a press release
DESCRIPTION:FREE FOR MEMBERS \nWriting and pitching a press release\, Adam Keating\, Service Manager – Strategic Communications\, Southend Council & David Green\, Head of External Communications\, London Borough of Tower Hamlets \nBOOK HERE
URL:https://lgcomms.org.uk/event-listing/zero-to-hero-writing-and-pitching-a-press-release/
ATTACH;FMTTYPE=image/jpeg:https://lgcomms.org.uk/wp-content/uploads/2024/12/Zero-to-hero-2-1.jpg
END:VEVENT
END:VCALENDAR