BEGIN:VCALENDAR
VERSION:2.0
PRODID:-//LGcomms - ECPv6.15.20//NONSGML v1.0//EN
CALSCALE:GREGORIAN
METHOD:PUBLISH
X-WR-CALNAME:LGcomms
X-ORIGINAL-URL:https://lgcomms.org.uk
X-WR-CALDESC:Events for LGcomms
REFRESH-INTERVAL;VALUE=DURATION:PT1H
X-Robots-Tag:noindex
X-PUBLISHED-TTL:PT1H
BEGIN:VTIMEZONE
TZID:UTC
BEGIN:STANDARD
TZOFFSETFROM:+0000
TZOFFSETTO:+0000
TZNAME:UTC
DTSTART:20240101T000000
END:STANDARD
END:VTIMEZONE
BEGIN:VEVENT
DTSTART;TZID=UTC:20250206T123000
DTEND;TZID=UTC:20250206T131500
DTSTAMP:20260425T115826
CREATED:20241216T163517Z
LAST-MODIFIED:20250110T084457Z
UID:10000019-1738845000-1738847700@lgcomms.org.uk
SUMMARY:Zero to hero: Simple ways to embed a creative mindset and the case for being brave with comms
DESCRIPTION:FREE FOR MEMBERS \nSimple ways to embed a creative mindset and the case for being brave with comms\, Zander Mills\, Communication Manager\, South Yorkshire Fire & Rescue & James Morton\, Founder\, turn the page \n\nEveryday creativity – embedding a creative mindset in the busy day-to-day\nThe case for standing out – why we need to be bold to make an impact\nWinning over doubters – how we can negotiate and win permission for our ideas\n\nBOOK HERE
URL:https://lgcomms.org.uk/event-listing/zero-to-hero-simple-ways-to-embed-a-creative-mindset-and-the-case-for-being-brave-with-comms/
ATTACH;FMTTYPE=image/jpeg:https://lgcomms.org.uk/wp-content/uploads/2024/12/Zero-to-hero-2-1.jpg
END:VEVENT
BEGIN:VEVENT
DTSTART;TZID=UTC:20250206T133000
DTEND;TZID=UTC:20250206T170000
DTSTAMP:20260425T115826
CREATED:20250122T162849Z
LAST-MODIFIED:20251202T111204Z
UID:10000028-1738848600-1738861200@lgcomms.org.uk
SUMMARY:North East regional network meeting
DESCRIPTION:This session is fully booked. If you would like to enquire about joining the next session please email hello@lgcomms.org.uk.
URL:https://lgcomms.org.uk/event-listing/north-east-regional-network-meeting/
CATEGORIES:Regional event
ATTACH;FMTTYPE=image/jpeg:https://lgcomms.org.uk/wp-content/uploads/2025/01/East-mids-2.jpg
END:VEVENT
BEGIN:VEVENT
DTSTART;TZID=UTC:20250207T110000
DTEND;TZID=UTC:20250207T120000
DTSTAMP:20260425T115826
CREATED:20250117T123930Z
LAST-MODIFIED:20250117T123930Z
UID:10000025-1738926000-1738929600@lgcomms.org.uk
SUMMARY:Fighting for the Future of Local Government in an uncertain world
DESCRIPTION:Free for LGcomms members (please log in to book) \nIn an uncertain world\, the Government has been understandably distracted by changing geopolitics\, climate change and the ongoing war in Ukraine. \nMeanwhile\, it has a domestic agenda to fulfil in an increasingly polarised political landscape and growing pressures on the public purse. \nHow do we ensure the local state’s case is heard over the ‘noise’ of these massive issues? How do we make ourselves relevant to Government agendas\, and how do we fight for the future of town and city halls at a time of extreme national challenge? \nThis session will explore how we can continue to argue the case for the local in the context of poly-crisis and fast-moving technological change. \nHow do we continue to convince national decision-makers that the future is local? \n  \nSubjects to touch on: \n\nGetting your message across to the right audiences\nSpending Review and Beyond\nRelationships with MPs and ministers\nProving the value of the local state through a strong evidence base\nThe English Devolution Bill\nPublic service reform\n\nOur panellists: \nAnna Wrigglesworth https://www.linkedin.com/in/awrigglesworth/ \nJoe Derrett https://www.linkedin.com/in/joe-derrett-a8340b5/ \nChaired by Harriet Shone https://www.linkedin.com/in/harriet-shone-09b8ba44/ \nBOOK HERE
URL:https://lgcomms.org.uk/event-listing/fighting-for-the-future-of-local-government-in-an-uncertain-world-2/
ATTACH;FMTTYPE=image/jpeg:https://lgcomms.org.uk/wp-content/uploads/2025/01/Future-of-local-govt.jpg
END:VEVENT
BEGIN:VEVENT
DTSTART;TZID=UTC:20250213T123000
DTEND;TZID=UTC:20250213T131500
DTSTAMP:20260425T115826
CREATED:20241216T163709Z
LAST-MODIFIED:20250109T172426Z
UID:10000020-1739449800-1739452500@lgcomms.org.uk
SUMMARY:Zero to hero: Using AI as a force for good in comms
DESCRIPTION:FREE FOR MEMBERS \nDan Slee\, Dan Slee C2 Ltd \nThis looks at the basics of AI\, how it can be used safely\, how you can use UK Government guidelines\, how it can be used and the risks and rewards. I’ll also go through useful tools to experiment with. For background\, I was a journalist for 12 years\, worked in local government communications for almost 10 years and I’ve been a freelance digital comms consultant for more than a decade. I’m a former editorial board member for The Guardian’s Public Sector Leaders forum\, a member of the CIPR Local Public Services committee member and I’ve been researching and delivering training around AI in comms since 2018. \nBOOK HERE
URL:https://lgcomms.org.uk/event-listing/zero-to-hero-using-ai-as-a-force-for-good-in-comms/
ATTACH;FMTTYPE=image/jpeg:https://lgcomms.org.uk/wp-content/uploads/2024/12/Zero-to-hero-2-1.jpg
END:VEVENT
BEGIN:VEVENT
DTSTART;TZID=UTC:20250220T123000
DTEND;TZID=UTC:20250220T131500
DTSTAMP:20260425T115826
CREATED:20241216T164447Z
LAST-MODIFIED:20250109T153217Z
UID:10000021-1740054600-1740057300@lgcomms.org.uk
SUMMARY:Zero to hero: Internal comms 101 – how to create staff advocates\, how often to engage and how to make information cut through the workload
DESCRIPTION:FREE FOR MEMBERS \nLucy Downham\, Chart.PRService Lead – Communications and Public Relations Customer Transformation\, Wigan Council & Polly Cziok\, Executive Director\, Innovation and Change\, London Borough of Merton \nBOOK HERE
URL:https://lgcomms.org.uk/event-listing/zero-to-hero-internal-comms-101-how-to-create-staff-advocates-how-often-to-engage-and-how-to-make-information-cut-through-the-workload/
ATTACH;FMTTYPE=image/jpeg:https://lgcomms.org.uk/wp-content/uploads/2024/12/Zero-to-hero-2-1.jpg
END:VEVENT
BEGIN:VEVENT
DTSTART;TZID=UTC:20250227T123000
DTEND;TZID=UTC:20250227T131500
DTSTAMP:20260425T115826
CREATED:20241216T164615Z
LAST-MODIFIED:20250106T140155Z
UID:10000022-1740659400-1740662100@lgcomms.org.uk
SUMMARY:Zero to hero: Getting the most out of social media
DESCRIPTION:FREE FOR MEMBERS \nGetting the most out of social media\, Louise Gibson\, Team Manager – Social Media\, Design\, Advertising and Sponsorship\, Sheffield City Council\, Jameela Freitas & Talitha Makoni\, Westminster City Council \nBOOK HERE
URL:https://lgcomms.org.uk/event-listing/zero-to-hero-getting-the-most-out-of-social-media/
ATTACH;FMTTYPE=image/jpeg:https://lgcomms.org.uk/wp-content/uploads/2024/12/Zero-to-hero-2-1.jpg
END:VEVENT
END:VCALENDAR