BEGIN:VCALENDAR
VERSION:2.0
PRODID:-//LGcomms - ECPv6.15.20//NONSGML v1.0//EN
CALSCALE:GREGORIAN
METHOD:PUBLISH
X-ORIGINAL-URL:https://lgcomms.org.uk
X-WR-CALDESC:Events for LGcomms
REFRESH-INTERVAL;VALUE=DURATION:PT1H
X-Robots-Tag:noindex
X-PUBLISHED-TTL:PT1H
BEGIN:VTIMEZONE
TZID:UTC
BEGIN:STANDARD
TZOFFSETFROM:+0000
TZOFFSETTO:+0000
TZNAME:UTC
DTSTART:20240101T000000
END:STANDARD
END:VTIMEZONE
BEGIN:VEVENT
DTSTART;TZID=UTC:20251202T150000
DTEND;TZID=UTC:20251202T160000
DTSTAMP:20260421T161959
CREATED:20251121T125632Z
LAST-MODIFIED:20251202T111200Z
UID:10000043-1764687600-1764691200@lgcomms.org.uk
SUMMARY:LGcomms East Midlands regional network meeting
DESCRIPTION:Free to LGcomms members \nTuesday 2 December 2025 \n3pm – 4pm \nVirtual – Via MS Teams \nWe’re delighted to invite you to our next LGcomms East Midlands Networking Event to be held online on Tuesday\, 2 December\, between 3pm and 4pm.\n\nFollowing our last in-person session in September\, this meeting will focus on Community Cohesion. We are pleased to be joined by Andy Allsopp\, Head of Profession\, Communications and Marketing at Essex County Council. There will also be an opportunity for wider discussion.\n\nTo find out more\, please contact Rachael Pengelly – rachael.pengelly@emcouncils.gov.uk or Craig Forsyth – Craig.Forsyth@westnorthants.gov.uk.
URL:https://lgcomms.org.uk/event-listing/lgcomms-east-midlands-regional-network-meeting-5/
CATEGORIES:Regional event
ATTACH;FMTTYPE=image/jpeg:https://lgcomms.org.uk/wp-content/uploads/2025/11/East-mids.jpg
END:VEVENT
BEGIN:VEVENT
DTSTART;TZID=UTC:20251210T120000
DTEND;TZID=UTC:20251210T124500
DTSTAMP:20260421T161959
CREATED:20251114T161251Z
LAST-MODIFIED:20251210T160035Z
UID:10000042-1765368000-1765370700@lgcomms.org.uk
SUMMARY:WhatsApp channels
DESCRIPTION:Free for LGcomms members (please log in to book) \nRun by\, Molly Williams\, Sheffield City Council\, Zander Mills\, South Yorkshire Fire and Rescue and Dan Slee. \nWhat will be covered: \n\nPros and cons of WhatsApp\nWhat is WhatsApp Channels? A basic overview\nPractical tips for getting set-up and using it\nExperiences from SCC\, SYFR and wider\nNot just broadcast- 3 x examples of two way engagement from SYFR\nAnalytics and measurement\nSome inspirational accounts to follow\nQ&A\n\n 
URL:https://lgcomms.org.uk/event-listing/whatsapp-channels/
ATTACH;FMTTYPE=image/jpeg:https://lgcomms.org.uk/wp-content/uploads/2025/11/Whatsapp-2.jpg
END:VEVENT
END:VCALENDAR