BEGIN:VCALENDAR
VERSION:2.0
PRODID:-//LGcomms - ECPv6.15.20//NONSGML v1.0//EN
CALSCALE:GREGORIAN
METHOD:PUBLISH
X-WR-CALNAME:LGcomms
X-ORIGINAL-URL:https://lgcomms.org.uk
X-WR-CALDESC:Events for LGcomms
REFRESH-INTERVAL;VALUE=DURATION:PT1H
X-Robots-Tag:noindex
X-PUBLISHED-TTL:PT1H
BEGIN:VTIMEZONE
TZID:UTC
BEGIN:STANDARD
TZOFFSETFROM:+0000
TZOFFSETTO:+0000
TZNAME:UTC
DTSTART:20230101T000000
END:STANDARD
END:VTIMEZONE
BEGIN:VEVENT
DTSTART;TZID=UTC:20241114T093000
DTEND;TZID=UTC:20241114T163000
DTSTAMP:20260420T152901
CREATED:20241014T135922Z
LAST-MODIFIED:20241014T135922Z
UID:10000010-1731576600-1731601800@lgcomms.org.uk
SUMMARY:Partner promotion - Build on your strategy as a leader in local government communications
DESCRIPTION:Westco presents: Want to develop your strategic communication and influencing skills? \nFull cost: £349+VAT – There is a 25% discount on the course fee for all LGcomms members. \nJust select Invoice as your preferred payment option and reference LGcomms in the course description box. \nProfessor Paul Willis is the UK’s leading academic on communication strategy. He has trained hundreds of communication leaders in central and local government\, including through LGcomms’s own Future Leader’s programme. \nPaul\, through LGcomms and Westco\, is running a rare one-day in-person course at Westminster City Council on Thursday November 14th which is designed for current and upcoming Heads of Communication. \nCourse takeaways: \n\nUnderstand the difference between strategic planning and strategic thinking\nClarity around your strategic contribution and who matters most from a strategic perspective\nUnderstand the qualities and characteristics of good strategists and how to anticipate future issues and opportunities\nKnow how to make sense of communication challenges for yourself and others and the key priorities when leading complex situations\nThe importance of reflection in your own professional development.\n\nTo sign up click here: \nWestco Academy – What makes a great communication strategist and leader? (westcocommunications.com)
URL:https://lgcomms.org.uk/event-listing/partner-promotion-build-on-your-strategy-as-a-leader-in-local-government-communications/
LOCATION:Westminster City Hall\, 64 Victoria Street\, London\, SW1E 6QE
ATTACH;FMTTYPE=image/jpeg:https://lgcomms.org.uk/wp-content/uploads/2024/10/Westco-Academy-training-course-Paul-Willis-scaled.jpg
END:VEVENT
END:VCALENDAR